BEGIN:VCALENDAR
VERSION:2.0
PRODID:-//Middlesex County Regional Chamber of Commerce - ECPv6.15.20//NONSGML v1.0//EN
CALSCALE:GREGORIAN
METHOD:PUBLISH
X-ORIGINAL-URL:https://www.mcrcc.org
X-WR-CALDESC:Events for Middlesex County Regional Chamber of Commerce
REFRESH-INTERVAL;VALUE=DURATION:PT1H
X-Robots-Tag:noindex
X-PUBLISHED-TTL:PT1H
BEGIN:VTIMEZONE
TZID:America/New_York
BEGIN:DAYLIGHT
TZOFFSETFROM:-0500
TZOFFSETTO:-0400
TZNAME:EDT
DTSTART:20250309T070000
END:DAYLIGHT
BEGIN:STANDARD
TZOFFSETFROM:-0400
TZOFFSETTO:-0500
TZNAME:EST
DTSTART:20251102T060000
END:STANDARD
BEGIN:DAYLIGHT
TZOFFSETFROM:-0500
TZOFFSETTO:-0400
TZNAME:EDT
DTSTART:20260308T070000
END:DAYLIGHT
BEGIN:STANDARD
TZOFFSETFROM:-0400
TZOFFSETTO:-0500
TZNAME:EST
DTSTART:20261101T060000
END:STANDARD
BEGIN:DAYLIGHT
TZOFFSETFROM:-0500
TZOFFSETTO:-0400
TZNAME:EDT
DTSTART:20270314T070000
END:DAYLIGHT
BEGIN:STANDARD
TZOFFSETFROM:-0400
TZOFFSETTO:-0500
TZNAME:EST
DTSTART:20271107T060000
END:STANDARD
END:VTIMEZONE
BEGIN:VEVENT
DTSTART;TZID=America/New_York:20260519T180000
DTEND;TZID=America/New_York:20260519T203000
DTSTAMP:20260422T220342
CREATED:20251218T182128Z
LAST-MODIFIED:20260422T235348Z
UID:459897-1779213600-1779222600@www.mcrcc.org
SUMMARY:Community Leaders of Distinction 2026
DESCRIPTION:[vc_row][vc_column][vc_column_text css=””]Join the Middlesex County Regional Chamber of Commerce on Tuesday\, May 19th for its annual Community Leaders of Distinction at 6 p.m.\, at The Pines Manor\, 2085 Lincoln Hwy in Edison. \nThe Community Leaders of Distinction Award honors an individual or organization whose activities have made a difference and have improved the quality of life for our neighbors and the communities in Middlesex County. This award celebrates and showcases the honorees’ important contributions to our community. \n\nBusiness Leader of the Year – Ravi Badge\, President and Owner\, CMIT Solutions\nEmerging Leader of the Year – Larisa Perlovsky\, Area Marketing Director\, Optimum\nHometown Hero of the Year – Michele Lombardi\, Council President (Ward 4) Piscataway Township\nPublic Servant of the Year – Steve Mamakas\, Executive Office\, Old Bridge Mayor’s Office of Economic Development\nCommunity Organization of the Year – Saint Peter’s Family Health Center\nCommunity Volunteer of the Year – Howard Alexander\, Program Director of Fast Break Buddy Ball\, East Brunswick\n\n[/vc_column_text][vc_empty_space][vc_btn title=”Click Here to Register” color=”primary” align=”center” css=”” link=”url:https%3A%2F%2Fmtap.io%2Fevent%2FCommunityLeadersofDistinction2026″][vc_empty_space][/vc_column][/vc_row][vc_row][vc_column][vc_empty_space][vc_column_text css=””] \nThank You to Our Sponsors\n[/vc_column_text][vc_empty_space][vc_column_text css=””] \nPearl Sponsor\n[/vc_column_text][vc_empty_space][/vc_column][/vc_row][vc_row][vc_column width=”1/2″][vc_empty_space][vc_single_image image=”457896″ img_size=”medium” alignment=”center” onclick=”custom_link” img_link_target=”_blank” css=”” link=”https://www.optimum.com/”][vc_empty_space][/vc_column][vc_column width=”1/2″][vc_single_image image=”457883″ img_size=”medium” alignment=”center” onclick=”custom_link” img_link_target=”_blank” css=”” link=”https://www.withum.com/”][vc_empty_space][/vc_column][/vc_row][vc_row][vc_column][vc_empty_space][vc_column_text css=””] \nGold Sponsor\n[/vc_column_text][vc_empty_space][vc_single_image image=”457099″ img_size=”medium” alignment=”center” onclick=”custom_link” css=”” link=”https://www.jnj.com/”][vc_empty_space][/vc_column][/vc_row]
URL:https://www.mcrcc.org/event/community-leaders-of-distinction-2026/
LOCATION:NJ
CATEGORIES:CLD
ATTACH;FMTTYPE=image/jpeg:https://www.mcrcc.org/wp-content/uploads/2025/12/Leaders-of-Distinction-2026-Honoree-flyer-v3-1.jpg
END:VEVENT
END:VCALENDAR