BEGIN:VCALENDAR
VERSION:2.0
PRODID:-//Middlesex County Regional Chamber of Commerce - ECPv6.15.20//NONSGML v1.0//EN
CALSCALE:GREGORIAN
METHOD:PUBLISH
X-ORIGINAL-URL:https://www.mcrcc.org
X-WR-CALDESC:Events for Middlesex County Regional Chamber of Commerce
REFRESH-INTERVAL;VALUE=DURATION:PT1H
X-Robots-Tag:noindex
X-PUBLISHED-TTL:PT1H
BEGIN:VTIMEZONE
TZID:America/New_York
BEGIN:DAYLIGHT
TZOFFSETFROM:-0500
TZOFFSETTO:-0400
TZNAME:EDT
DTSTART:20220313T070000
END:DAYLIGHT
BEGIN:STANDARD
TZOFFSETFROM:-0400
TZOFFSETTO:-0500
TZNAME:EST
DTSTART:20221106T060000
END:STANDARD
BEGIN:DAYLIGHT
TZOFFSETFROM:-0500
TZOFFSETTO:-0400
TZNAME:EDT
DTSTART:20230312T070000
END:DAYLIGHT
BEGIN:STANDARD
TZOFFSETFROM:-0400
TZOFFSETTO:-0500
TZNAME:EST
DTSTART:20231105T060000
END:STANDARD
BEGIN:DAYLIGHT
TZOFFSETFROM:-0500
TZOFFSETTO:-0400
TZNAME:EDT
DTSTART:20240310T070000
END:DAYLIGHT
BEGIN:STANDARD
TZOFFSETFROM:-0400
TZOFFSETTO:-0500
TZNAME:EST
DTSTART:20241103T060000
END:STANDARD
END:VTIMEZONE
BEGIN:VEVENT
DTSTART;TZID=America/New_York:20231019T083000
DTEND;TZID=America/New_York:20231019T133000
DTSTAMP:20260422T030910
CREATED:20230720T172949Z
LAST-MODIFIED:20231017T154917Z
UID:456668-1697704200-1697722200@www.mcrcc.org
SUMMARY:Women's Leadership Summit
DESCRIPTION:[vc_row][vc_column][vc_column_text]This year’s Women’s Leadership Summit focuses on the Theme of “Finding the Leader Within” \nThe Chamber’s Women in Business Committee has been focused on meeting the needs of our workforce today and the future for nearly two decades with our Women’s Leadership Summit\, which provides women with the opportunity to develop\, learn and connect with other female professionals each year. \nThis year’s Women’s Leadership Summit is scheduled for October 19th\, 2023\, and runs from 8:30 AM to 1:30 PM. It features networking sessions\, a philanthropic speaker\, panel discussion\, wellness expo\, lunch and a keynote address.  \nDress for Success will be accepting donations of gently used purses and costume jewelry at the event. Donations will help fulfill the organization’s mission to empower women to achieve economic independence by providing a network of support\, professional attire and the development tools to help women thrive in work and in life.[/vc_column_text][vc_empty_space][/vc_column][/vc_row][vc_row][vc_column width=”1/2″][vc_btn title=”Click Here to Register” color=”danger” align=”center” link=”url:https%3A%2F%2Fwww.eventbrite.com%2Fe%2Fwomens-leadership-summit-tickets-681756671557|target:_blank”][vc_empty_space][/vc_column][vc_column width=”1/2″][vc_btn title=”Click Here for Sponsorship Details” color=”danger” align=”center” link=”url:https%3A%2F%2Fwww.mcrcc.org%2Fwp-content%2Fuploads%2F2023%2F07%2F2023-Sponsor-Sheet.pdf|target:_blank”][vc_empty_space][/vc_column][/vc_row][vc_row][vc_column][vc_column_text] \nMeet Our Keynote Speaker\n[/vc_column_text][vc_empty_space][/vc_column][/vc_row][vc_row full_width=”stretch_row” bg_type=”bg_color” bg_color_value=”#dda4a4″ css=”.vc_custom_1664553103480{margin-left: 10px !important;background-color: #dddddd !important;}”][vc_column width=”1/4″ css=”.vc_custom_1663960395864{margin-left: 10px !important;}”][vc_empty_space height=”10″][vc_single_image image=”456900″ img_size=”medium” alignment=”center” css=”.vc_custom_1695324925479{margin-left: 10px !important;padding-left: 10px !important;}”][vc_empty_space height=”15px”][vc_column_text css=”.vc_custom_1697118420669{margin-left: 10px !important;padding-left: 10px !important;}”] \nSyma Chowdhry\, Lead Anchor at News12\n[/vc_column_text][vc_empty_space height=”15px”][/vc_column][vc_column width=”3/4″][vc_empty_space][vc_column_text]Syma Chowdhry is the anchor on Mornings on News 12. She is a graduate of Toms River H.S. North and Temple University. From chasing politicians to interviewing celebrities\, she has covered almost every type of story and won two Emmy Awards.[/vc_column_text][vc_empty_space][/vc_column][/vc_row][vc_row][vc_column][vc_empty_space][vc_column_text] \nMeet Our Philanthropic Speaker\n[/vc_column_text][vc_empty_space][/vc_column][/vc_row][vc_row full_width=”stretch_row” bg_type=”bg_color” bg_color_value=”#ddbaba” css=”.vc_custom_1697118908545{margin-left: 10px !important;background-color: #dddddd !important;}”][vc_column width=”1/4″ css=”.vc_custom_1663960395864{margin-left: 10px !important;}”][vc_empty_space height=”10″][vc_single_image image=”456998″ img_size=”medium” alignment=”center” css=”.vc_custom_1697118416073{margin-left: 10px !important;padding-left: 10px !important;}”][vc_empty_space height=”15px”][vc_column_text css=”.vc_custom_1697118506462{margin-left: 10px !important;padding-left: 10px !important;}”] \nRoni Salkin\, Executive Director\nJewish Family Services of Middlesex County (JFS)\n[/vc_column_text][vc_empty_space height=”15px”][/vc_column][vc_column width=”3/4″][vc_empty_space][vc_column_text]Roni Salkin has been with Jewish Family Services of Middlesex County for the past 10 years\, the last 5 as Executive Director. Previously\, she served as Director of Career and Women’s Center services for JFS\, working with women who lost a partner and are trying to become self-sufficient through development of technical\, job and life skills. Now she oversees all JFS programs including Mental Health Counseling\, Immigration and Citizenship\, Food Pantries\, Senior Nutrition Programs\, Volunteer Services and more\, all of which serve community members in need regardless of religion\, race\, gender or ethnic orientation. Having started with JFS as a volunteer serving meals to seniors in the congregate meal program\, Roni encourages volunteerism at all levels\, knowing that it feels as good giving help as receiving it.[/vc_column_text][vc_empty_space][vc_btn title=”Click Here to Read Full Bio” color=”danger” align=”center” link=”url:https%3A%2F%2Fwww.mcrcc.org%2Froni-salkin-bio%2F”][vc_empty_space][/vc_column][/vc_row][vc_row][vc_column][vc_empty_space][vc_column_text] \nMeet Our Morning Workshop Speaker\n[/vc_column_text][vc_empty_space][/vc_column][/vc_row][vc_row full_width=”stretch_row” bg_type=”bg_color” bg_color_value=”#ddc9c9″ css=”.vc_custom_1697118998889{margin-left: 10px !important;background-color: #dddddd !important;}”][vc_column width=”1/4″ css=”.vc_custom_1663960395864{margin-left: 10px !important;}”][vc_empty_space][vc_empty_space][vc_single_image image=”454230″ img_size=”medium” alignment=”center” onclick=”custom_link” css=”.vc_custom_1664550194277{margin-left: 10px !important;padding-left: 10px !important;}” link=”https://www.cashmanconsultingllc.com”][vc_empty_space][vc_column_text css=”.vc_custom_1696856126691{margin-left: 10px !important;padding-left: 10px !important;}”] \nKathleen Cashman-Walter\, MBA\, LCOP\, PCC\n[/vc_column_text][vc_empty_space][/vc_column][vc_column width=”3/4″][vc_empty_space][vc_column_text]Kathleen Cashman-Walter is a highly experienced Executive Leadership and Career Coach\, Training and Development Specialist\, Strategic Consultant\, Keynote Speaker\, Author\, and Professor. \nFor over 30 years\, Kathleen has been empowering leaders from all industries to become more confident\, accountable\, and courageous. As the President of Cashman Consulting LLC\, a Leadership Development and Coaching Organization\, Kathleen’s branded coaching\, “Conversations with Kathleen\,” has become synonymous with effective leadership coaching that delivers results. \nKathleen provides individual\, executive\, and team leadership coaching to senior leaders\, coaches\, and their organizations and teams. Her expertise in Leadership and Performance and Career Coaching has helped countless clients overcome challenges\, find answers\, and unlock their full potential.[/vc_column_text][vc_empty_space][vc_btn title=”Click Here to Read Full Bio” color=”danger” align=”center” link=”url:https%3A%2F%2Fwww.mcrcc.org%2Fkathleen-cashman-walter-bio-2%2F”][vc_empty_space][/vc_column][/vc_row][vc_row][vc_column][vc_empty_space][vc_column_text] \nMeet Our Panel\n[/vc_column_text][vc_empty_space][/vc_column][/vc_row][vc_row bg_type=”bg_color” bg_color_value=”#ffffff” css=”.vc_custom_1664553258304{margin-left: 10px !important;background-color: #dddddd !important;}”][vc_column width=”1/3″ css=”.vc_custom_1663960395864{margin-left: 10px !important;}”][vc_empty_space][vc_single_image image=”456950″ img_size=”medium” alignment=”center” css=”.vc_custom_1696358804179{margin-left: 10px !important;padding-left: 10px !important;}”][vc_empty_space][vc_column_text css=”.vc_custom_1696358839605{margin-left: 10px !important;padding-left: 10px !important;}”] \nMichelle Radney\, Sr. Director\, Global Strategic Marketing with Ethicon\, Johnson & Johnson’s MedTech\n[/vc_column_text][vc_empty_space][vc_btn title=”Click Here to Read Full Bio” color=”danger” align=”center” link=”url:https%3A%2F%2Fwww.mcrcc.org%2Fmichelle-radney-bio%2F”][vc_empty_space][/vc_column][vc_column width=”1/3″][vc_empty_space][vc_single_image image=”456952″ img_size=”medium” alignment=”center” css=”.vc_custom_1696359060628{margin-left: 10px !important;padding-left: 10px !important;}”][vc_empty_space][vc_column_text css=”.vc_custom_1696359096955{margin-left: 10px !important;padding-left: 10px !important;}”] \nYla Eason\, Award-Winning Educator and Entrepreneur\n[/vc_column_text][vc_empty_space][vc_empty_space][vc_btn title=”Click Here to Read Full Bio” color=”danger” align=”center” link=”url:https%3A%2F%2Fwww.mcrcc.org%2Fyla-eason-bio%2F”][vc_empty_space][/vc_column][vc_column width=”1/3″][vc_empty_space][vc_single_image image=”456954″ img_size=”medium” alignment=”center” css=”.vc_custom_1696359286127{margin-left: 10px !important;padding-left: 10px !important;}”][vc_empty_space][vc_column_text css=”.vc_custom_1696359324498{margin-left: 10px !important;padding-left: 10px !important;}”] \nRobin Suydam\, Business and Community Leader in Central Jersey\n[/vc_column_text][vc_empty_space][vc_btn title=”Click Here to Read Full Bio” color=”danger” align=”center” link=”url:https%3A%2F%2Fwww.mcrcc.org%2Frobin-suydam-bio%2F”][vc_empty_space][/vc_column][/vc_row][vc_row][vc_column][vc_separator color=”black” border_width=”5″][vc_empty_space][vc_column_text] \nThank You To Our Sponsors & Partners\n[/vc_column_text][vc_empty_space][vc_column_text] \nPlatinum Sponsor & Corporate Sponsor\n[/vc_column_text][/vc_column][/vc_row][vc_row][vc_column width=”1/2″][vc_empty_space height=”20px”][vc_empty_space height=”20px”][vc_single_image image=”8952″ img_size=”medium” alignment=”center” onclick=”custom_link” img_link_target=”_blank” link=”https://www.jnj.com”][vc_empty_space][/vc_column][vc_column width=”1/2″][vc_empty_space height=”20px”][vc_single_image image=”457000″ img_size=”medium” alignment=”center” onclick=”custom_link” img_link_target=”_blank” link=”https://www.rwjbh.org”][vc_empty_space][/vc_column][/vc_row][vc_row][vc_column][vc_column_text] \nKeynote Speaker Sponsor\n[/vc_column_text][vc_empty_space][vc_single_image image=”6626″ img_size=”medium” alignment=”center” onclick=”custom_link” img_link_target=”_blank” link=”https://www.withum.com/”][vc_empty_space][/vc_column][/vc_row][vc_row][vc_column width=”1/2″][vc_column_text] \nLunch Sponsor\n[/vc_column_text][vc_empty_space][vc_single_image image=”10514″ img_size=”medium” alignment=”center” onclick=”custom_link” img_link_target=”_blank” link=”https://www.hoaglandlongo.com”][vc_empty_space][/vc_column][vc_column width=”1/2″][vc_column_text] \nWorkshop Sponsor\n[/vc_column_text][vc_empty_space][vc_empty_space][vc_single_image image=”9152″ img_size=”medium” alignment=”center” onclick=”custom_link” img_link_target=”_blank” link=”https://www.magbank.com/”][vc_empty_space][/vc_column][/vc_row][vc_row][vc_column width=”1/2″][vc_column_text] \nBreakfast Panel Sponsor\n[/vc_column_text][vc_empty_space][vc_empty_space][vc_single_image image=”455017″ img_size=”medium” alignment=”center” onclick=”custom_link” img_link_target=”_blank” link=”https://www.horizonblue.com”][/vc_column][vc_column width=”1/2″][vc_column_text] \nMedia Sponsor\n[/vc_column_text][vc_empty_space][vc_single_image image=”455483″ img_size=”medium” alignment=”center” onclick=”custom_link” img_link_target=”_blank” link=”https://bbgi.com”][vc_empty_space][/vc_column][/vc_row][vc_column][/vc_column]
URL:https://www.mcrcc.org/event/womens-leadership-summit-5/
LOCATION:Crowne Plaza Edison\, 2055 Lincoln Highway\, Edison\, NJ\, 08817\, United States
CATEGORIES:Women's Leadership Summit
ATTACH;FMTTYPE=image/jpeg:https://www.mcrcc.org/wp-content/uploads/2023/07/MCRCC-2023-WS-Keynote-600x300-v2.jpg
END:VEVENT
BEGIN:VEVENT
DTSTART;TZID=America/New_York:20231024T083000
DTEND;TZID=America/New_York:20231024T103000
DTSTAMP:20260422T030910
CREATED:20231002T174725Z
LAST-MODIFIED:20231005T194544Z
UID:456938-1698136200-1698143400@www.mcrcc.org
SUMMARY:October Networking Breakfast
DESCRIPTION:[vc_row][vc_column][vc_column_text][/vc_column_text][vc_empty_space][vc_column_text]The Middlesex County Regional Chamber of Commerce is excited to bring you our Monthly Networking Breakfast! Our next meeting is Wednesday\, October 24 at the Junior Achievement located at 360 Pear Blossom Drive\, Edison from 8:30 to 10 a.m.  \nThe MCRCC Monthly Networking Breakfast is designed to provide members of MCRCC the opportunity to network\, grow your business and develop lasting business connections. This month hear from Bill Chambers\, Head of Business Development for a4 Advertising. Learn how a4 can be your consultive partner to help your business grow utilizing strategic planning\, data\, and technology. a4 is a multiscreen advertising partner for businesses and brands of all sizes in any location\, from hyperlocal to nationwide.  \nEvent Overview  \n\n8:30 AM Doors Open (Breakfast available)\n8:30 AM to 8:50 AM – Breakfast \n8:50 AM to 9:30 AM – Introduction & 30-Second Intros\n9:30 AM to 9:55 AM – Structured Networking\n9:55 AM – Closing & Follow-Up Networking Activity\n\nTo Join The Chamber As A Member Please Click Here \n[/vc_column_text][vc_empty_space][vc_btn title=”Click Here to Register” color=”primary” align=”center” link=”url:https%3A%2F%2Fwww.eventbrite.com%2Fe%2Foctober-networking-breakfast-tickets-730621076307|target:_blank”][vc_empty_space][vc_column_text]Bill Chambers\, Head of Business Development for a4\, has over 30 years of experience in advertising research within the media industry. He has a strong expertise in sales research\, and is a member of Nielsen’s product\, technical and television committees\, Scarborough’s Local Advisory Board\, the VAB Measurement Innovation Task Force\, and the Media Ratings Council. Bill previously held management roles at New York Interconnect and Cablevision Media Sales. [/vc_column_text][vc_empty_space][vc_column_text] \nThank You to Our Sponsor\n[/vc_column_text][vc_empty_space][/vc_column][/vc_row][vc_column][/vc_column][vc_column][/vc_column][vc_row][vc_column width=”1/2″][vc_single_image image=”456940″ img_size=”medium” alignment=”center” onclick=”custom_link” img_link_target=”_blank” link=”https://www.alticeusa.com”][vc_empty_space][/vc_column][vc_column width=”1/2″][vc_single_image image=”456968″ img_size=”medium” alignment=”center” onclick=”custom_link” img_link_target=”_blank” link=”https://newjersey.news12.com/?region=newjersey”][vc_empty_space][/vc_column][/vc_row]
URL:https://www.mcrcc.org/event/october-networking-breakfast-3/
LOCATION:Junior Achievement\, 360 Pear Blossom Drive\, Edison\, New Jersey\, 08837\, United States
CATEGORIES:Networking Breakfast
ATTACH;FMTTYPE=image/jpeg:https://www.mcrcc.org/wp-content/uploads/2023/10/MCRCC-October-Networking-Breakfast-flyer-v3.jpg
END:VEVENT
BEGIN:VEVENT
DTSTART;TZID=America/New_York:20231025T180000
DTEND;TZID=America/New_York:20231025T210000
DTSTAMP:20260422T030910
CREATED:20230929T184036Z
LAST-MODIFIED:20230929T184036Z
UID:456931-1698256800-1698267600@www.mcrcc.org
SUMMARY:Guactoberfest Celebration
DESCRIPTION:[vc_row][vc_column][vc_column_text]Join the Middlesex County Regional Chamber of Commerce\, in collaboration with Withum’s Emerging Leaders and Professionals\, for the Guactoberfest Celebration Meet & Greet on Wednesday\, October 25th. \nEnjoy a great evening filled with activities\, food and drinks from 6-9 PM at the Fat Cactus Cantina\, 350 George St.\, New Brunswick. \n  \nMembers: $15 \nNon-Members: $25[/vc_column_text][/vc_column][/vc_row][vc_row][vc_column][vc_empty_space][vc_btn title=”Click Here to Register” color=”primary” align=”center” link=”url:https%3A%2F%2Fwww.eventbrite.com%2Fe%2Fguactoberfest-celebration-tickets-728953528627%3Faff%3Doddtdtcreator”][vc_empty_space][vc_column_text] \nPresented in Partnership With\n[/vc_column_text][vc_empty_space][vc_single_image image=”456763″ img_size=”medium” alignment=”center” onclick=”custom_link” img_link_target=”_blank” link=”https://www.withum.com/”][vc_empty_space][/vc_column][/vc_row]
URL:https://www.mcrcc.org/event/guactoberfest-celebration/
LOCATION:Fat Cactus Cantina\, 350 George St.\, New Brunswick\, NJ\, 08901\, United States
CATEGORIES:Meet & Greet
ATTACH;FMTTYPE=image/jpeg:https://www.mcrcc.org/wp-content/uploads/2023/09/Emerging-Leaders-Meet-Greet-Flyer-v1.jpg
END:VEVENT
END:VCALENDAR