BEGIN:VCALENDAR
VERSION:2.0
PRODID:-//Middlesex County Regional Chamber of Commerce - ECPv6.15.20//NONSGML v1.0//EN
CALSCALE:GREGORIAN
METHOD:PUBLISH
X-WR-CALNAME:Middlesex County Regional Chamber of Commerce
X-ORIGINAL-URL:https://www.mcrcc.org
X-WR-CALDESC:Events for Middlesex County Regional Chamber of Commerce
REFRESH-INTERVAL;VALUE=DURATION:PT1H
X-Robots-Tag:noindex
X-PUBLISHED-TTL:PT1H
BEGIN:VTIMEZONE
TZID:America/New_York
BEGIN:DAYLIGHT
TZOFFSETFROM:-0500
TZOFFSETTO:-0400
TZNAME:EDT
DTSTART:20220313T070000
END:DAYLIGHT
BEGIN:STANDARD
TZOFFSETFROM:-0400
TZOFFSETTO:-0500
TZNAME:EST
DTSTART:20221106T060000
END:STANDARD
BEGIN:DAYLIGHT
TZOFFSETFROM:-0500
TZOFFSETTO:-0400
TZNAME:EDT
DTSTART:20230312T070000
END:DAYLIGHT
BEGIN:STANDARD
TZOFFSETFROM:-0400
TZOFFSETTO:-0500
TZNAME:EST
DTSTART:20231105T060000
END:STANDARD
BEGIN:DAYLIGHT
TZOFFSETFROM:-0500
TZOFFSETTO:-0400
TZNAME:EDT
DTSTART:20240310T070000
END:DAYLIGHT
BEGIN:STANDARD
TZOFFSETFROM:-0400
TZOFFSETTO:-0500
TZNAME:EST
DTSTART:20241103T060000
END:STANDARD
END:VTIMEZONE
BEGIN:VEVENT
DTSTART;TZID=America/New_York:20230918T170000
DTEND;TZID=America/New_York:20230918T200000
DTSTAMP:20260422T060352
CREATED:20230530T200821Z
LAST-MODIFIED:20230918T162837Z
UID:456481-1695056400-1695067200@www.mcrcc.org
SUMMARY:The Largest Networking Party
DESCRIPTION:[vc_row][vc_column][vc_empty_space][vc_column_text]Launched in 1992\, the Largest Networking Party (LNP) was created to offer an exciting and relaxed networking opportunity to business partners of Central Jersey. In its 31st year\, the Middlesex County Regional Chamber of Commerce is celebrating all that Middlesex County has to offer with a distinguished event that tops all others.  \nJoin us on Monday\, September 18th for Central Jersey’s premiere business & networking expo. Held at the Hyatt Regency in New Brunswick\, hundreds of professionals swarm to the largest showcasing of Central Jersey businesses each year\, making it the event to not miss.[/vc_column_text][vc_empty_space][vc_video link=”https://youtu.be/1Qoaup23-fs” el_width=”70″ align=”center”][vc_empty_space][/vc_column][/vc_row][vc_row][vc_column width=”1/3″][vc_empty_space][vc_single_image image=”456483″ alignment=”center”][vc_empty_space][vc_column_text] \nSponsor or Exhibit and Connect with Your Market at Central Jersey’s Premiere Business & Networking Expo\, The LNP! \n[/vc_column_text][vc_empty_space height=”78px”][vc_btn title=”Become an Exhibitor!” color=”sky” align=”center” link=”url:https%3A%2F%2Fwww.mcrcc.org%2Fwp-content%2Fuploads%2F2023%2F07%2FLNP-sponsor.pdf|target:_blank”][vc_empty_space height=”64px”][/vc_column][vc_column width=”1/3″][vc_empty_space][vc_single_image image=”456484″ alignment=”center”][vc_empty_space][vc_column_text] \nNetwork with Hundred of Central Jersey Professionals and Enjoy cuisine from some of Central Jersey’s Best Restaurants! \n[/vc_column_text][vc_empty_space height=”48px”][vc_btn title=”Click Here To Purchase Tickets” color=”warning” align=”center” link=”url:https%3A%2F%2Fwww.eventbrite.com%2Fe%2Fthe-lnp-featuring-network-fest-tickets-646511111137|target:_blank”][vc_empty_space height=”64px”][/vc_column][vc_column width=”1/3″][vc_empty_space][vc_single_image image=”14455″ alignment=”center”][vc_empty_space][vc_column_text] \nAll Sponsorship Packages include an Expo Table\, Tickets and Marketing Elements & More! \n[/vc_column_text][vc_empty_space height=”75px”][vc_btn title=”Check Out Sponsorship Opportunities!” color=”sky” align=”center” link=”url:https%3A%2F%2Fwww.mcrcc.org%2Fwp-content%2Fuploads%2F2023%2F07%2FLNP-sponsor.pdf|target:_blank”][vc_empty_space height=”64px”][/vc_column][/vc_row][vc_row][vc_column][vc_separator style=”dashed” border_width=”10″][/vc_column][/vc_row][vc_row][vc_column][vc_empty_space][vc_column_text] \nMeet Us at the LNP\n[/vc_column_text][/vc_column][/vc_row][vc_row equal_height=”yes”][vc_column width=”1/4″][vc_empty_space][vc_column_text]Restaurants \nBAM Desserts \nBlackthorn Restaurant & Irish Pub \nChilangos \nEdison Job Corps Culinary Arts \nGia Giamas \nHavana Central \nKnight 9 Nutrition \nLa Bon Bake Shoppes \nMozzarella Restaurant[/vc_column_text][vc_empty_space][/vc_column][vc_column width=”1/4″][vc_empty_space][vc_column_text]1 Ark Enterprises \nAllen & Stults \nArt Line Productions \nAvalon Princeton Circle \nBeasley Media Group \nBerkeley College \nBNI Profit Partners \nBold Action Booths \nB&L Printing \nCASA of Middlesex County \nCenter for Great Expectations \nChild Wellness Institute \nCMIT Solutions \nColumbia Bank \nCounty of Middlesex \nCowleys \nCrossroads of the American Revolution \nDiamond Business Communications \nDress for Success Central Jersey \nEasterseals New Jersey \nElijah’s Promise \nESW Occupational Services \nFinancial Resources Credit Union \nFirst Bank \nGraceland Gardens Assisted Living \nGreater New Brunswick Rotary[/vc_column_text][vc_empty_space][/vc_column][vc_column width=”1/4″][vc_empty_space][vc_column_text]Hoagland\, Longo\, Moran\, Dunst+ Doukas LLP \nHorizon BCBS \nHugs for Brady Foundation \nHyatt Regency \nJDFR \nJohnson & Johnson \nKeep Middlesex Moving \nMagyar Bank \nMeals on Wheels in Greater New Brunswick  \nMiddlesex College \nMiddlesex County Office of Health Services \nMorris Habitat for Humanity \nNew Brunswick City Center \nNJ Advance Media \nNJ Air Pros \nNJ Clean Communities Council \nNew Jersey Economic Development Authority \nNJ Lawyers Assistance Program \nNJ Prevention Network \nNJ Small Business Development Center \nNew York Life Insurance  \nNorthfield Bank \nOld Bridge Medical Center[/vc_column_text][vc_empty_space][/vc_column][vc_column width=”1/4″][vc_empty_space][vc_column_text]Parker Health Group \nPatriots’ Path Council – Boy Scouts of America \nPeak Environmental \nPeoples Security Bank & Trust Co. \nP.M. Studios \nProfessional Conferences Center ESCNJ \nProvident Bank \nPursuit \nRecovery Centers of America \nREPLENISH \nRutgers Graduate School of Education \nRutgers Juvenile Justice & Youth Development Program \nRutgers Project ECHO \nRutgers School of Public Affairs & Administration \nSaint Peter’s University Hospital \nSCORE Central Jersey \nState Theatre New Jersey \nS&G Cleaning Services \nThe Bank of Princeton \nTopgolf \nTotal Party \nTown Clock CDC \nWells Fargo \nWomen Aware \nWithum \nYolo Promo[/vc_column_text][vc_empty_space][/vc_column][/vc_row][vc_row][vc_column][vc_separator style=”dashed” border_width=”10″][vc_empty_space][vc_column_text] \nThank You to Our Sponsors & Partners\n[/vc_column_text][vc_empty_space][/vc_column][/vc_row][vc_row][vc_column width=”1/2″][vc_single_image image=”3361″ alignment=”center” onclick=”custom_link” img_link_target=”_blank” link=”https://www.wellsfargo.com”][vc_empty_space][/vc_column][vc_column width=”1/2″][vc_empty_space height=”40px”][vc_single_image image=”8952″ img_size=”medium” alignment=”center” onclick=”custom_link” img_link_target=”_blank” link=”https://www.jnj.com/”][vc_empty_space][vc_empty_space][/vc_column][/vc_row][vc_row][vc_column width=”1/2″][vc_empty_space][vc_single_image image=”455839″ img_size=”medium” alignment=”center” onclick=”custom_link” img_link_target=”_blank” link=”https://www.yolopromo.com”][vc_empty_space][/vc_column][vc_column width=”1/2″][vc_empty_space height=”40px”][vc_single_image image=”432146″ img_size=”medium” alignment=”center” onclick=”custom_link” img_link_target=”_blank” link=”https://www.middlesexcountynj.gov”][vc_empty_space][/vc_column][/vc_row][vc_row][vc_column width=”1/2″][vc_empty_space][vc_single_image image=”456763″ img_size=”medium” alignment=”center” onclick=”custom_link” img_link_target=”_blank” link=”https://www.withum.com”][vc_empty_space][/vc_column][vc_column width=”1/2″][vc_empty_space height=”50px”][vc_single_image image=”454757″ img_size=”medium” alignment=”center” onclick=”custom_link” img_link_target=”_blank” link=”https://www.saintpetershcs.com”][vc_empty_space][/vc_column][/vc_row][vc_row][vc_column width=”1/2″][vc_empty_space][vc_empty_space][vc_single_image image=”455483″ img_size=”medium” alignment=”center” onclick=”custom_link” img_link_target=”_blank” link=”https://bbgi.com”][vc_empty_space][/vc_column][vc_column width=”1/2″][vc_empty_space][vc_single_image image=”456857″ img_size=”medium” alignment=”center” onclick=”custom_link” img_link_target=”_blank” link=”https://www.evelynsrestaurant.com/”][vc_empty_space][/vc_column][/vc_row][vc_column][/vc_column]
URL:https://www.mcrcc.org/event/the-largest-networking-party-4/
LOCATION:Hyatt Regency New Brunswick\, 2 Albany Street\, New Brunswick\, NJ\, 08901\, United States
CATEGORIES:LNP
ATTACH;FMTTYPE=image/jpeg:https://www.mcrcc.org/wp-content/uploads/2023/05/4x6-postcard.jpg
END:VEVENT
BEGIN:VEVENT
DTSTART;TZID=America/New_York:20230927T083000
DTEND;TZID=America/New_York:20230927T103000
DTSTAMP:20260422T060352
CREATED:20230823T191316Z
LAST-MODIFIED:20230823T191316Z
UID:456779-1695803400-1695810600@www.mcrcc.org
SUMMARY:September Networking Breakfast
DESCRIPTION:[vc_row][vc_column][vc_column_text][/vc_column_text][vc_empty_space][vc_column_text]Join the Middlesex County Regional Chamber of Commerce for our September Networking Breakfast on Wednesday\, September 27th at the Professional Conference Center at ESCNJ\, 1690 Stelton Rd. in Piscataway. \nThe MCRCC Networking Breakfast is designed to provide Members and their Guests with the Opportunity to Network with other Members\, Develop New Connections and Grow Your Business.  \nEvent Overview  \n\n8:30 AM Doors Open (Breakfast available)\n8:30 AM to 8:50 AM – Breakfast \n8:50 AM to 9:30 AM – Introduction & 30-Second Intros\n9:30 AM to 9:55 AM – Structured Networking\n9:55 AM – Closing & Follow-Up Networking Activity\n\nTo Join The Chamber As A Member Please Click Here \n[/vc_column_text][vc_empty_space][vc_btn title=”Click Here to Register” color=”primary” align=”center” link=”url:https%3A%2F%2Fwww.eventbrite.com%2Fe%2Fseptember-networking-breakfast-tickets-705560148397|target:_blank”][vc_empty_space][/vc_column][/vc_row][vc_column][/vc_column][vc_column][/vc_column]
URL:https://www.mcrcc.org/event/september-networking-breakfast-3/
LOCATION:Professional Conference Center at ESCNJ\, 1690 Stelton Rd\, Piscataway\, NJ\, 08854\, United States
CATEGORIES:Networking Breakfast
ATTACH;FMTTYPE=image/jpeg:https://www.mcrcc.org/wp-content/uploads/2023/08/MCRCC-September-Networking-Breakfast-flyer-v3-1.jpg
END:VEVENT
END:VCALENDAR