BEGIN:VCALENDAR
VERSION:2.0
PRODID:-//Middlesex County Regional Chamber of Commerce - ECPv6.15.20//NONSGML v1.0//EN
CALSCALE:GREGORIAN
METHOD:PUBLISH
X-ORIGINAL-URL:https://www.mcrcc.org
X-WR-CALDESC:Events for Middlesex County Regional Chamber of Commerce
REFRESH-INTERVAL;VALUE=DURATION:PT1H
X-Robots-Tag:noindex
X-PUBLISHED-TTL:PT1H
BEGIN:VTIMEZONE
TZID:America/New_York
BEGIN:DAYLIGHT
TZOFFSETFROM:-0500
TZOFFSETTO:-0400
TZNAME:EDT
DTSTART:20220313T070000
END:DAYLIGHT
BEGIN:STANDARD
TZOFFSETFROM:-0400
TZOFFSETTO:-0500
TZNAME:EST
DTSTART:20221106T060000
END:STANDARD
BEGIN:DAYLIGHT
TZOFFSETFROM:-0500
TZOFFSETTO:-0400
TZNAME:EDT
DTSTART:20230312T070000
END:DAYLIGHT
BEGIN:STANDARD
TZOFFSETFROM:-0400
TZOFFSETTO:-0500
TZNAME:EST
DTSTART:20231105T060000
END:STANDARD
BEGIN:DAYLIGHT
TZOFFSETFROM:-0500
TZOFFSETTO:-0400
TZNAME:EDT
DTSTART:20240310T070000
END:DAYLIGHT
BEGIN:STANDARD
TZOFFSETFROM:-0400
TZOFFSETTO:-0500
TZNAME:EST
DTSTART:20241103T060000
END:STANDARD
BEGIN:DAYLIGHT
TZOFFSETFROM:-0500
TZOFFSETTO:-0400
TZNAME:EDT
DTSTART:20250309T070000
END:DAYLIGHT
BEGIN:STANDARD
TZOFFSETFROM:-0400
TZOFFSETTO:-0500
TZNAME:EST
DTSTART:20251102T060000
END:STANDARD
BEGIN:DAYLIGHT
TZOFFSETFROM:-0500
TZOFFSETTO:-0400
TZNAME:EDT
DTSTART:20260308T070000
END:DAYLIGHT
BEGIN:STANDARD
TZOFFSETFROM:-0400
TZOFFSETTO:-0500
TZNAME:EST
DTSTART:20261101T060000
END:STANDARD
END:VTIMEZONE
BEGIN:VEVENT
DTSTART;TZID=America/New_York:20250625T120000
DTEND;TZID=America/New_York:20250625T180000
DTSTAMP:20260420T074700
CREATED:20250505T135838Z
LAST-MODIFIED:20250505T135838Z
UID:459202-1750852800-1750874400@www.mcrcc.org
SUMMARY:34th Hermes Expo International
DESCRIPTION:[vc_row][vc_column][vc_column_text css=””]We cordially invite you to attend the 34th Annual Hermes Expo on June 25\, 2025 at the Grand Marquis in Old Bridge\, NJ. Join us for a day filled with exciting exhibits\, networking opportunities\, and engaging presentations. Don’t miss out on this chance to expand your business and make valuable connections![/vc_column_text][vc_empty_space][vc_btn title=”Click Here to Register” color=”primary” align=”center” css=”” link=”url:https%3A%2F%2Fhermesexpo.com%2F|target:_blank”][vc_empty_space][/vc_column][/vc_row]
URL:https://www.mcrcc.org/event/34th-hermes-expo-international/
LOCATION:Grand Marquis\, 1550 Route 9 South\, Old Bridge\, NJ\, 08857\, United States
CATEGORIES:Hermes Expo
ATTACH;FMTTYPE=image/jpeg:https://www.mcrcc.org/wp-content/uploads/2025/05/Agenda_Expo_2025-scaled.jpg
END:VEVENT
BEGIN:VEVENT
DTSTART;TZID=America/New_York:20240619T120000
DTEND;TZID=America/New_York:20240619T180000
DTSTAMP:20260420T074700
CREATED:20231206T150327Z
LAST-MODIFIED:20240501T175418Z
UID:457151-1718798400-1718820000@www.mcrcc.org
SUMMARY:33rd Hermes Expo International
DESCRIPTION:[vc_row][vc_column][vc_column_text]We cordially invite you to attend the 33rd Annual Hermes Expo on June 19\, 2024 at the Grand Marquis in Old Bridge\, NJ. Join us for a day filled with exciting exhibits\, networking opportunities\, and engaging presentations. Don’t miss out on this chance to expand your business and make valuable connections![/vc_column_text][vc_empty_space][vc_btn title=”Click Here to Register” color=”primary” align=”center” link=”url:https%3A%2F%2Fhermesexpo.com”][vc_empty_space][/vc_column][/vc_row]
URL:https://www.mcrcc.org/event/33rd-hermes-expo-international/
LOCATION:Grand Marquis\, 1550 Route 9 South\, Old Bridge\, NJ\, 08857\, United States
CATEGORIES:Hermes Expo
ATTACH;FMTTYPE=image/png:https://www.mcrcc.org/wp-content/uploads/2023/12/Hermes-Expo-2024-Promo.png
END:VEVENT
BEGIN:VEVENT
DTSTART;TZID=America/New_York:20230614T120000
DTEND;TZID=America/New_York:20230614T180000
DTSTAMP:20260420T074700
CREATED:20230322T192434Z
LAST-MODIFIED:20230518T144650Z
UID:456221-1686744000-1686765600@www.mcrcc.org
SUMMARY:32nd Hermes Expo International
DESCRIPTION:[vc_row][vc_column][vc_column_text]We cordially invite you to attend the 32nd Annual Hermes Expo on June 14\, 2023 at the Grand Marquis in Old Bridge\, NJ. Join us for a day filled with exciting exhibits\, networking opportunities\, and engaging presentations. Don’t miss out on this chance to expand your business and make valuable connections![/vc_column_text][vc_empty_space][vc_btn title=”Click Here to Register” color=”primary” align=”center” link=”url:https%3A%2F%2Fhermesexpo.com”][vc_empty_space][/vc_column][/vc_row]
URL:https://www.mcrcc.org/event/32nd-hermes-expo-international/
LOCATION:Grand Marquis\, 1550 Route 9 South\, Old Bridge\, NJ\, 08857\, United States
CATEGORIES:Hermes Expo
ATTACH;FMTTYPE=image/jpeg:https://www.mcrcc.org/wp-content/uploads/2023/03/2023-Hermes-Expo-Flyer-New.jpg
END:VEVENT
END:VCALENDAR