BEGIN:VCALENDAR
VERSION:2.0
PRODID:-//Middlesex County Regional Chamber of Commerce - ECPv6.15.20//NONSGML v1.0//EN
CALSCALE:GREGORIAN
METHOD:PUBLISH
X-ORIGINAL-URL:https://www.mcrcc.org
X-WR-CALDESC:Events for Middlesex County Regional Chamber of Commerce
REFRESH-INTERVAL;VALUE=DURATION:PT1H
X-Robots-Tag:noindex
X-PUBLISHED-TTL:PT1H
BEGIN:VTIMEZONE
TZID:America/New_York
BEGIN:DAYLIGHT
TZOFFSETFROM:-0500
TZOFFSETTO:-0400
TZNAME:EDT
DTSTART:20220313T070000
END:DAYLIGHT
BEGIN:STANDARD
TZOFFSETFROM:-0400
TZOFFSETTO:-0500
TZNAME:EST
DTSTART:20221106T060000
END:STANDARD
BEGIN:DAYLIGHT
TZOFFSETFROM:-0500
TZOFFSETTO:-0400
TZNAME:EDT
DTSTART:20230312T070000
END:DAYLIGHT
BEGIN:STANDARD
TZOFFSETFROM:-0400
TZOFFSETTO:-0500
TZNAME:EST
DTSTART:20231105T060000
END:STANDARD
BEGIN:DAYLIGHT
TZOFFSETFROM:-0500
TZOFFSETTO:-0400
TZNAME:EDT
DTSTART:20240310T070000
END:DAYLIGHT
BEGIN:STANDARD
TZOFFSETFROM:-0400
TZOFFSETTO:-0500
TZNAME:EST
DTSTART:20241103T060000
END:STANDARD
END:VTIMEZONE
BEGIN:VEVENT
DTSTART;TZID=America/New_York:20231129T083000
DTEND;TZID=America/New_York:20231129T110000
DTSTAMP:20260424T115741
CREATED:20231010T175009Z
LAST-MODIFIED:20231115T155441Z
UID:456988-1701246600-1701255600@www.mcrcc.org
SUMMARY:Holiday WinterFest 2023
DESCRIPTION:[vc_row][vc_column][vc_column_text] \nJoin Us For The Chamber’s Annual Holiday WinterFest at Forsgate Country Club on Wednesday\, November 29th from 8:30 AM to 11 AM. Attendees receive Breakfast\, Networking Opportunities\, Holiday Shopping and More! \n  \nSponsorship Opportunities Available \nEvent Sponsor: $500 \nBreakfast Sponsor: $250[/vc_column_text][vc_empty_space][/vc_column][/vc_row][vc_row][vc_column][vc_btn title=”Click Here To Purchase” color=”primary” align=”center” link=”url:https%3A%2F%2Fwww.eventbrite.com%2Fe%2Fholiday-winterfest-tickets-735791210317|title:Click%20Here%20To%20Purchase|target:_blank”][vc_empty_space][/vc_column][/vc_row][vc_row][vc_column][vc_column_text] \nThank You to Our Breakfast Sponsor\n[/vc_column_text][vc_empty_space][vc_single_image image=”457100″ img_size=”medium” alignment=”center” onclick=”custom_link” img_link_target=”_blank” link=”https://www.atlantichealth.org”][vc_empty_space][/vc_column][/vc_row]
URL:https://www.mcrcc.org/event/holiday-winterfest-2023/
LOCATION:Forsgate Country Club\, 375 Forsgate Drive\, Monroe Township\, NJ\, 08831\, United States
CATEGORIES:WinterFest
ATTACH;FMTTYPE=image/jpeg:https://www.mcrcc.org/wp-content/uploads/2023/10/MCRCC-2023-WIB-Holiday-Winterfest-flyer-v1.jpg
END:VEVENT
END:VCALENDAR